BEGIN:VCALENDAR
VERSION:2.0
PRODID:https://github.com/derhansen/sf_event_mgt
METHOD:PUBLISH
BEGIN:VEVENT
UID:197-362@www.dorniermuseum.de
CLASS: PUBLIC
SUMMARY:Internationaler Museumstag
DESCRIPTION:"Baden-Württemberg erzählt." lautet das Motto des diesjährigen 
 Internationalen Museumstag.\n\nDass ein Besuch im größten Technikmuseum am 
 Bodensee Spaß macht und mit zahlreichen Angeboten erlebbar ist, davon könne
 n sich unsere Besucher*innen am Internationalen Museumstag ein Bild machen.
  Für alle großen und kleinen Technikfans, Luftfahrtenthusiasten, Raumfahrtb
 egeisterte und Freunde eines erlebnisreichen Ausflugtags bieten wir an dies
 em Tag folgende kostenfreie Angebote:\n\n 	öffentliche Zeitzeugenführung um
  11:30 Uhr (Museumseintritt erforderlich, Teilnehmerzahl begrenzt) 	Familie
 nführung um 14:00 Uhr (Museumseintritt erforderlich, Teilnehmerzahl begrenz
 t) 	Kinderquiz für unsere kleinen Museumsgäste (erhältlich an der Kasse) 	M
 ediaguide für das Smartphone (erhältlich an der Kasse) \n\nWir freuen uns a
 uf Ihren Besuch!
DTSTAMP:20260403T132356Z
DTSTART:20260517T080000Z
DTEND:20260517T150000Z
END:VEVENT
END:VCALENDAR
